BEGIN:VCALENDAR
VERSION:2.0
PRODID:SchoolNow
CALSCALE:GREGORIAN
BEGIN:VEVENT
UID:faaebac2-94c5-11f0-b476-0a58a9feac02
DTSTAMP:20251216T214619Z
SUMMARY:Asian and Pacific American Heritage Month
URL;VALUE=URI:https://www.tusd.org/schools/carr/carr-old/calendar/8638414/a
 sian-and-pacific-american-heritage-month
DTSTART;VALUE=DATE:20270501
DTEND;VALUE=DATE:20270601
END:VEVENT
END:VCALENDAR
