BEGIN:VCALENDAR
VERSION:2.0
PRODID:SchoolNow
CALSCALE:GREGORIAN
BEGIN:VEVENT
UID:b561283c-586c-11f0-9077-0a58a9feac02
DTSTAMP:20251216T214619Z
SUMMARY:Carr-nival
URL;VALUE=URI:https://www.tusd.org/schools/carr/carr-old/calendar/8382182/c
 arr-nival
DTSTART;VALUE=DATE:20260609
DTEND;VALUE=DATE:20260610
END:VEVENT
END:VCALENDAR
