BEGIN:VCALENDAR
VERSION:2.0
PRODID:SchoolNow
CALSCALE:GREGORIAN
BEGIN:VEVENT
UID:b561274c-586c-11f0-ac63-0a58a9feac02
DTSTAMP:20251216T214619Z
SUMMARY:SSC #4 @ 4pm
URL;VALUE=URI:https://www.tusd.org/schools/carr/carr-old/calendar/8382181/s
 sc-4-4pm
DTSTART:20260604T230000Z
DTEND:20260605T000000Z
END:VEVENT
END:VCALENDAR
