BEGIN:VCALENDAR
VERSION:2.0
PRODID:SchoolNow
CALSCALE:GREGORIAN
BEGIN:VEVENT
UID:b5612666-586c-11f0-936a-0a58a9feac02
DTSTAMP:20251216T214619Z
SUMMARY:Invite Only Volunteer Breakfast @ 9am
URL;VALUE=URI:https://www.tusd.org/schools/carr/carr-old/calendar/8382180/i
 nvite-only-volunteer-breakfast-9am
DTSTART:20260603T160000Z
DTEND:20260603T170000Z
END:VEVENT
END:VCALENDAR
