BEGIN:VCALENDAR
VERSION:2.0
PRODID:SchoolNow
CALSCALE:GREGORIAN
BEGIN:VEVENT
UID:b5612102-586c-11f0-a217-0a58a9feac02
DTSTAMP:20251216T214619Z
SUMMARY:SSC #3 @ 4pm
URL;VALUE=URI:https://www.tusd.org/schools/carr/carr-old/calendar/8382174/s
 sc-3-4pm
DTSTART:20260423T230000Z
DTEND:20260424T000000Z
END:VEVENT
END:VCALENDAR
