BEGIN:VCALENDAR
VERSION:2.0
PRODID:SchoolNow
CALSCALE:GREGORIAN
BEGIN:VEVENT
UID:b5612012-586c-11f0-8d4a-0a58a9feac02
DTSTAMP:20251216T214619Z
SUMMARY:Administrative Professionals Day
URL;VALUE=URI:https://www.tusd.org/schools/carr/carr-old/calendar/8382173/a
 dministrative-professionals-day
DTSTART;VALUE=DATE:20260422
DTEND;VALUE=DATE:20260423
END:VEVENT
END:VCALENDAR
