BEGIN:VCALENDAR
VERSION:2.0
PRODID:SchoolNow
CALSCALE:GREGORIAN
BEGIN:VEVENT
UID:b5611dd8-586c-11f0-ab54-0a58a9feac02
DTSTAMP:20251216T214619Z
SUMMARY:1st Grade Folklorico Performance at Flag assembly
URL;VALUE=URI:https://www.tusd.org/schools/carr/carr-old/calendar/8382171/1
 st-grade-folklorico-performance-at-flag-assembly
DTSTART:20260417T161500Z
DTEND:20260417T171500Z
END:VEVENT
END:VCALENDAR
