BEGIN:VCALENDAR
VERSION:2.0
PRODID:SchoolNow
CALSCALE:GREGORIAN
BEGIN:VEVENT
UID:b52a1676-586c-11f0-af4b-0a58a9feac02
DTSTAMP:20251216T214619Z
SUMMARY:Invite Only Parent Conf./Early Dismissal Grades 1-5 at 2:12 pm
URL;VALUE=URI:https://www.tusd.org/schools/carr/carr-old/calendar/8382166/i
 nvite-only-parent-conf-early-dismissal-grades-1-5-at-2-12-pm
DTSTART;VALUE=DATE:20260325
DTEND;VALUE=DATE:20260328
END:VEVENT
END:VCALENDAR
