BEGIN:VCALENDAR
VERSION:2.0
PRODID:SchoolNow
CALSCALE:GREGORIAN
BEGIN:VEVENT
UID:b52a15a4-586c-11f0-a619-0a58a9feac02
DTSTAMP:20251216T214619Z
SUMMARY:Progress Reports Released
URL;VALUE=URI:https://www.tusd.org/schools/carr/carr-old/calendar/8382165/p
 rogress-reports-released
DTSTART;VALUE=DATE:20260320
DTEND;VALUE=DATE:20260321
END:VEVENT
END:VCALENDAR
