BEGIN:VCALENDAR
VERSION:2.0
PRODID:SchoolNow
CALSCALE:GREGORIAN
BEGIN:VEVENT
UID:b52a1234-586c-11f0-8f37-0a58a9feac02
DTSTAMP:20251216T214619Z
SUMMARY:Family Literacy Night at 5:30pm
URL;VALUE=URI:https://www.tusd.org/schools/carr/carr-old/calendar/8382161/f
 amily-literacy-night-at-5-30pm
DTSTART:20260306T013000Z
DTEND:20260306T023000Z
END:VEVENT
END:VCALENDAR
