BEGIN:VCALENDAR
VERSION:2.0
PRODID:SchoolNow
CALSCALE:GREGORIAN
BEGIN:VEVENT
UID:b52a1158-586c-11f0-8dc1-0a58a9feac02
DTSTAMP:20251216T214619Z
SUMMARY:Read Across America Day
URL;VALUE=URI:https://www.tusd.org/schools/carr/carr-old/calendar/8382160/r
 ead-across-america-day
DTSTART;VALUE=DATE:20260302
DTEND;VALUE=DATE:20260303
END:VEVENT
END:VCALENDAR
