BEGIN:VCALENDAR
VERSION:2.0
PRODID:SchoolNow
CALSCALE:GREGORIAN
BEGIN:VEVENT
UID:b52a107c-586c-11f0-8773-0a58a9feac02
DTSTAMP:20251216T214619Z
SUMMARY:PTA Family Movie Night @ 6pm
URL;VALUE=URI:https://www.tusd.org/schools/carr/carr-old/calendar/8382159/p
 ta-family-movie-night-6pm
DTSTART:20260228T020000Z
DTEND:20260228T030000Z
END:VEVENT
END:VCALENDAR
