BEGIN:VCALENDAR
VERSION:2.0
PRODID:SchoolNow
CALSCALE:GREGORIAN
BEGIN:VEVENT
UID:b52a0faa-586c-11f0-a6e0-0a58a9feac02
DTSTAMP:20251216T214619Z
SUMMARY:TUSD STEAM Fair
URL;VALUE=URI:https://www.tusd.org/schools/carr/carr-old/calendar/8382158/t
 usd-steam-fair
DTSTART;VALUE=DATE:20260226
DTEND;VALUE=DATE:20260227
END:VEVENT
END:VCALENDAR
