BEGIN:VCALENDAR
VERSION:2.0
PRODID:SchoolNow
CALSCALE:GREGORIAN
BEGIN:VEVENT
UID:b52a0de8-586c-11f0-80e9-0a58a9feac02
DTSTAMP:20251216T214619Z
SUMMARY:5th Grade Panoramic & Grad Pic Day
URL;VALUE=URI:https://www.tusd.org/schools/carr/carr-old/calendar/8382156/5
 th-grade-panoramic-grad-pic-day
DTSTART;VALUE=DATE:20260217
DTEND;VALUE=DATE:20260218
END:VEVENT
END:VCALENDAR
