BEGIN:VCALENDAR
VERSION:2.0
PRODID:SchoolNow
CALSCALE:GREGORIAN
BEGIN:VEVENT
UID:b52a0d0c-586c-11f0-94a0-0a58a9feac02
DTSTAMP:20251216T214619Z
SUMMARY:Lunar New Year
URL;VALUE=URI:https://www.tusd.org/schools/carr/carr-old/calendar/8382155/l
 unar-new-year
DTSTART;VALUE=DATE:20260217
DTEND;VALUE=DATE:20260218
END:VEVENT
END:VCALENDAR
