BEGIN:VCALENDAR
VERSION:2.0
PRODID:SchoolNow
CALSCALE:GREGORIAN
BEGIN:VEVENT
UID:b52a0b5e-586c-11f0-b8b5-0a58a9feac02
DTSTAMP:20251216T214619Z
SUMMARY:Valentine's/Friendship Day
URL;VALUE=URI:https://www.tusd.org/schools/carr/carr-old/calendar/8382153/v
 alentines-friendship-day
DTSTART;VALUE=DATE:20260214
DTEND;VALUE=DATE:20260215
END:VEVENT
END:VCALENDAR
