BEGIN:VCALENDAR
VERSION:2.0
PRODID:SchoolNow
CALSCALE:GREGORIAN
BEGIN:VEVENT
UID:b52a07d0-586c-11f0-b231-0a58a9feac02
DTSTAMP:20251216T214619Z
SUMMARY:National School Counsels Week
URL;VALUE=URI:https://www.tusd.org/schools/carr/carr-old/calendar/8382149/n
 ational-school-counsels-week
DTSTART;VALUE=DATE:20260202
DTEND;VALUE=DATE:20260207
END:VEVENT
END:VCALENDAR
