BEGIN:VCALENDAR
VERSION:2.0
PRODID:SchoolNow
CALSCALE:GREGORIAN
BEGIN:VEVENT
UID:b52a0226-586c-11f0-a4f1-0a58a9feac02
DTSTAMP:20251216T214619Z
SUMMARY:PTA Board Meeting
URL;VALUE=URI:https://www.tusd.org/schools/carr/carr-old/calendar/8382143/p
 ta-board-meeting
DTSTART:20260116T010000Z
DTEND:20260116T020000Z
END:VEVENT
END:VCALENDAR
