BEGIN:VCALENDAR
VERSION:2.0
PRODID:SchoolNow
CALSCALE:GREGORIAN
BEGIN:VEVENT
UID:b529de9a-586c-11f0-946f-0a58a9feac02
DTSTAMP:20251216T214619Z
SUMMARY:Chorus Performance & Math Game Night at 5:30pm  w/ PTA Association 
 Meeting
URL;VALUE=URI:https://www.tusd.org/schools/carr/carr-old/calendar/8382140/c
 horus-performance-math-game-night-at-5-30pm-w-pta-association-meeting
DTSTART:20251219T013000Z
DTEND:20251219T040000Z
END:VEVENT
END:VCALENDAR
