BEGIN:VCALENDAR
VERSION:2.0
PRODID:SchoolNow
CALSCALE:GREGORIAN
BEGIN:VEVENT
UID:bd751264-5839-11f0-aa0a-0a58a9feac02
DTSTAMP:20251216T214619Z
SUMMARY:PTA Board Meeting
URL;VALUE=URI:https://www.tusd.org/schools/carr/carr-old/calendar/8381164/p
 ta-board-meeting
DTSTART:20251212T010000Z
DTEND:20251212T020000Z
END:VEVENT
END:VCALENDAR
