BEGIN:VCALENDAR
VERSION:2.0
PRODID:SchoolNow
CALSCALE:GREGORIAN
BEGIN:VEVENT
UID:bd751188-5839-11f0-955f-0a58a9feac02
DTSTAMP:20251216T214619Z
SUMMARY:Progress Reports Released
URL;VALUE=URI:https://www.tusd.org/schools/carr/carr-old/calendar/8381163/p
 rogress-reports-released
DTSTART;VALUE=DATE:20251205
DTEND;VALUE=DATE:20251206
END:VEVENT
END:VCALENDAR
