BEGIN:VCALENDAR
VERSION:2.0
PRODID:SchoolNow
CALSCALE:GREGORIAN
BEGIN:VEVENT
UID:bd750eea-5839-11f0-9985-0a58a9feac02
DTSTAMP:20251216T214619Z
SUMMARY:SSC #2 @ 4pm
URL;VALUE=URI:https://www.tusd.org/schools/carr/carr-old/calendar/8381160/s
 sc-2-4pm
DTSTART:20251114T000000Z
DTEND:20251114T010000Z
END:VEVENT
END:VCALENDAR
