BEGIN:VCALENDAR
VERSION:2.0
PRODID:SchoolNow
CALSCALE:GREGORIAN
BEGIN:VEVENT
UID:bd750e0e-5839-11f0-ad32-0a58a9feac02
DTSTAMP:20251216T214619Z
SUMMARY:PTA Family Movie Night @ 6pm
URL;VALUE=URI:https://www.tusd.org/schools/carr/carr-old/calendar/8381159/p
 ta-family-movie-night-6pm
DTSTART:20251115T020000Z
DTEND:20251115T030000Z
END:VEVENT
END:VCALENDAR
