BEGIN:VCALENDAR
VERSION:2.0
PRODID:SchoolNow
CALSCALE:GREGORIAN
BEGIN:VEVENT
UID:bd750b70-5839-11f0-afa6-0a58a9feac02
DTSTAMP:20251216T214619Z
SUMMARY:Dia De Los Muertos
URL;VALUE=URI:https://www.tusd.org/schools/carr/carr-old/calendar/8381156/d
 ia-de-los-muertos
DTSTART;VALUE=DATE:20251101
DTEND;VALUE=DATE:20251103
END:VEVENT
END:VCALENDAR
