BEGIN:VCALENDAR
VERSION:2.0
PRODID:SchoolNow
CALSCALE:GREGORIAN
BEGIN:VEVENT
UID:bd750a8a-5839-11f0-ab15-0a58a9feac02
DTSTAMP:20251216T214619Z
SUMMARY:Coffee with the Principal at 10:30am
URL;VALUE=URI:https://www.tusd.org/schools/carr/carr-old/calendar/8381155/c
 offee-with-the-principal-at-10-30am
DTSTART:20251031T173000Z
DTEND:20251031T183000Z
END:VEVENT
END:VCALENDAR
