BEGIN:VCALENDAR
VERSION:2.0
PRODID:SchoolNow
CALSCALE:GREGORIAN
BEGIN:VEVENT
UID:bd7509ae-5839-11f0-ab43-0a58a9feac02
DTSTAMP:20251216T214619Z
SUMMARY:Halloween Parade
URL;VALUE=URI:https://www.tusd.org/schools/carr/carr-old/calendar/8381154/h
 alloween-parade
DTSTART:20251031T160000Z
DTEND:20251031T170000Z
END:VEVENT
END:VCALENDAR
