BEGIN:VCALENDAR
VERSION:2.0
PRODID:SchoolNow
CALSCALE:GREGORIAN
BEGIN:VEVENT
UID:bd750634-5839-11f0-8ae0-0a58a9feac02
DTSTAMP:20251216T214619Z
SUMMARY:Invite Only Parent Conferences/Early Dismissal Grades 1-5 2:12pm
URL;VALUE=URI:https://www.tusd.org/schools/carr/carr-old/calendar/8381150/i
 nvite-only-parent-conferences-early-dismissal-grades-1-5-2-12pm
DTSTART;VALUE=DATE:20251016
DTEND;VALUE=DATE:20251018
END:VEVENT
END:VCALENDAR
