BEGIN:VCALENDAR
VERSION:2.0
PRODID:SchoolNow
CALSCALE:GREGORIAN
BEGIN:VEVENT
UID:bd750396-5839-11f0-a3dc-0a58a9feac02
DTSTAMP:20251216T214619Z
SUMMARY:Unity Day (Wear Orange)
URL;VALUE=URI:https://www.tusd.org/schools/carr/carr-old/calendar/8381147/u
 nity-day-wear-orange
DTSTART;VALUE=DATE:20251015
DTEND;VALUE=DATE:20251016
END:VEVENT
END:VCALENDAR
