BEGIN:VCALENDAR
VERSION:2.0
PRODID:SchoolNow
CALSCALE:GREGORIAN
BEGIN:VEVENT
UID:bd7500ee-5839-11f0-ac36-0a58a9feac02
DTSTAMP:20251216T214619Z
SUMMARY:5th Grade Basic Aid Training @10am
URL;VALUE=URI:https://www.tusd.org/schools/carr/carr-old/calendar/8381144/5
 th-grade-basic-aid-training-10am
DTSTART:20251008T170000Z
DTEND:20251008T180000Z
END:VEVENT
END:VCALENDAR
