BEGIN:VCALENDAR
VERSION:2.0
PRODID:SchoolNow
CALSCALE:GREGORIAN
BEGIN:VEVENT
UID:bd750012-5839-11f0-b99d-0a58a9feac02
DTSTAMP:20251216T214619Z
SUMMARY:Student Free Day - No School!
URL;VALUE=URI:https://www.tusd.org/schools/carr/carr-old/calendar/8381143/s
 tudent-free-day-no-school
DTSTART;VALUE=DATE:20251002
DTEND;VALUE=DATE:20251003
END:VEVENT
END:VCALENDAR
