BEGIN:VCALENDAR
VERSION:2.0
PRODID:SchoolNow
CALSCALE:GREGORIAN
BEGIN:VEVENT
UID:bd74fd6a-5839-11f0-a9e1-0a58a9feac02
DTSTAMP:20251216T214619Z
SUMMARY:Hearing/Vision Testing
URL;VALUE=URI:https://www.tusd.org/schools/carr/carr-old/calendar/8381140/h
 earing-vision-testing
DTSTART;VALUE=DATE:20250925
DTEND;VALUE=DATE:20250926
END:VEVENT
END:VCALENDAR
