BEGIN:VCALENDAR
VERSION:2.0
PRODID:SchoolNow
CALSCALE:GREGORIAN
BEGIN:VEVENT
UID:bd74facc-5839-11f0-b4c1-0a58a9feac02
DTSTAMP:20251216T214619Z
SUMMARY:PTA Board Meeting
URL;VALUE=URI:https://www.tusd.org/schools/carr/carr-old/calendar/8381137/p
 ta-board-meeting
DTSTART:20250912T000000Z
DTEND:20250912T010000Z
END:VEVENT
END:VCALENDAR
