BEGIN:VCALENDAR
VERSION:2.0
PRODID:SchoolNow
CALSCALE:GREGORIAN
BEGIN:VEVENT
UID:bd74f9f0-5839-11f0-8fdc-0a58a9feac02
DTSTAMP:20251216T214619Z
SUMMARY:TK/K Back-to-School Night @ 5:30pm
URL;VALUE=URI:https://www.tusd.org/schools/carr/carr-old/calendar/8381136/t
 k-k-back-to-school-night-5-30pm
DTSTART:20250905T003000Z
DTEND:20250905T013000Z
END:VEVENT
END:VCALENDAR
