BEGIN:VCALENDAR
VERSION:2.0
PRODID:SchoolNow
CALSCALE:GREGORIAN
BEGIN:VEVENT
UID:bd74f914-5839-11f0-bb1d-0a58a9feac02
DTSTAMP:20251216T214619Z
SUMMARY:Picture Day!
URL;VALUE=URI:https://www.tusd.org/schools/carr/carr-old/calendar/8381135/p
 icture-day
DTSTART;VALUE=DATE:20250902
DTEND;VALUE=DATE:20250903
END:VEVENT
END:VCALENDAR
