BEGIN:VCALENDAR
VERSION:2.0
PRODID:SchoolNow
CALSCALE:GREGORIAN
BEGIN:VEVENT
UID:bd74f82e-5839-11f0-8c46-0a58a9feac02
DTSTAMP:20251216T214619Z
SUMMARY:Labor Day - No School!
URL;VALUE=URI:https://www.tusd.org/schools/carr/carr-old/calendar/8381134/l
 abor-day-no-school
DTSTART;VALUE=DATE:20250901
DTEND;VALUE=DATE:20250902
END:VEVENT
END:VCALENDAR
