BEGIN:VCALENDAR
VERSION:2.0
PRODID:SchoolNow
CALSCALE:GREGORIAN
BEGIN:VEVENT
UID:709c8b56-f935-11ef-b967-0a58a9feac02
DTSTAMP:20251216T214619Z
SUMMARY:Native American Heritage Month
URL;VALUE=URI:https://www.tusd.org/schools/carr/carr-old/calendar/7600941/n
 ative-american-heritage-month
DTSTART;VALUE=DATE:20261101
DTEND;VALUE=DATE:20261201
END:VEVENT
END:VCALENDAR
