BEGIN:VCALENDAR
VERSION:2.0
PRODID:SchoolNow
CALSCALE:GREGORIAN
BEGIN:VEVENT
UID:00fbc924-6a65-11ef-b2eb-0e7eb09b4525
DTSTAMP:20251216T214619Z
SUMMARY:Mental Health Awareness Month
URL;VALUE=URI:https://www.tusd.org/schools/carr/carr-old/calendar/6518070/m
 ental-health-awareness-month
DTSTART;VALUE=DATE:20260501
DTEND;VALUE=DATE:20260601
END:VEVENT
END:VCALENDAR
