BEGIN:VCALENDAR
VERSION:2.0
PRODID:SchoolNow
CALSCALE:GREGORIAN
BEGIN:VEVENT
UID:0743b200-567a-11ef-a98d-0a58a9feac02
DTSTAMP:20251216T214619Z
SUMMARY:Pi Day
URL;VALUE=URI:https://www.tusd.org/schools/carr/carr-old/calendar/6376557/p
 i-day
DTSTART;VALUE=DATE:20260314
DTEND;VALUE=DATE:20260315
END:VEVENT
END:VCALENDAR
