BEGIN:VCALENDAR
VERSION:2.0
PRODID:SchoolNow
CALSCALE:GREGORIAN
BEGIN:VEVENT
UID:843b4b8e-94e9-11f0-93d5-0a58a9feac02
DTSTAMP:20251217T020517Z
SUMMARY:PTSA Double Good Popcorn Funraiser!
URL;VALUE=URI:https://www.tusd.org/schools/carr/calendar/8639459/ptsa-doubl
 e-good-popcorn-funraiser
DTSTART;VALUE=DATE:20250923
DTEND;VALUE=DATE:20250928
END:VEVENT
END:VCALENDAR
