BEGIN:VCALENDAR
VERSION:2.0
PRODID:SchoolNow
CALSCALE:GREGORIAN
BEGIN:VEVENT
UID:621c869c-585f-11f0-8515-0ebd4930cfaf
DTSTAMP:20251217T020517Z
SUMMARY:Memorial Day - No School
URL;VALUE=URI:https://www.tusd.org/schools/carr/calendar/8382123/memorial-d
 ay-no-school
DTSTART;VALUE=DATE:20260525
DTEND;VALUE=DATE:20260526
END:VEVENT
END:VCALENDAR
