BEGIN:VCALENDAR
VERSION:2.0
PRODID:SchoolNow
CALSCALE:GREGORIAN
BEGIN:VEVENT
UID:621c85c0-585f-11f0-ace6-0ebd4930cfaf
DTSTAMP:20251217T020517Z
SUMMARY:ELMAC Meeting @ 9:45am
URL;VALUE=URI:https://www.tusd.org/schools/carr/calendar/8382122/elmac-meet
 ing-9-45am
DTSTART:20260522T164500Z
DTEND:20260522T174500Z
END:VEVENT
END:VCALENDAR
