BEGIN:VCALENDAR
VERSION:2.0
PRODID:SchoolNow
CALSCALE:GREGORIAN
BEGIN:VEVENT
UID:621c84e4-585f-11f0-acad-0ebd4930cfaf
DTSTAMP:20251217T020517Z
SUMMARY:Multicultural Event @ 5:30pm
URL;VALUE=URI:https://www.tusd.org/schools/carr/calendar/8382121/multicultu
 ral-event-5-30pm
DTSTART:20260522T003000Z
DTEND:20260522T013000Z
END:VEVENT
END:VCALENDAR
