BEGIN:VCALENDAR
VERSION:2.0
PRODID:SchoolNow
CALSCALE:GREGORIAN
BEGIN:VEVENT
UID:621c83f4-585f-11f0-98ab-0ebd4930cfaf
DTSTAMP:20251217T020517Z
SUMMARY:PTA Board Meeting
URL;VALUE=URI:https://www.tusd.org/schools/carr/calendar/8382120/pta-board-
 meeting
DTSTART:20260515T000000Z
DTEND:20260515T010000Z
END:VEVENT
END:VCALENDAR
