BEGIN:VCALENDAR
VERSION:2.0
PRODID:SchoolNow
CALSCALE:GREGORIAN
BEGIN:VEVENT
UID:621c830e-585f-11f0-af14-0ebd4930cfaf
DTSTAMP:20251217T020517Z
SUMMARY:Student Free Day - No School!
URL;VALUE=URI:https://www.tusd.org/schools/carr/calendar/8382119/student-fr
 ee-day-no-school
DTSTART;VALUE=DATE:20260501
DTEND;VALUE=DATE:20260502
END:VEVENT
END:VCALENDAR
