BEGIN:VCALENDAR
VERSION:2.0
PRODID:SchoolNow
CALSCALE:GREGORIAN
BEGIN:VEVENT
UID:621c803e-585f-11f0-924b-0ebd4930cfaf
DTSTAMP:20251217T020517Z
SUMMARY:Campus Clean Up
URL;VALUE=URI:https://www.tusd.org/schools/carr/calendar/8382116/campus-cle
 an-up
DTSTART:20260418T170000Z
DTEND:20260418T180000Z
END:VEVENT
END:VCALENDAR
