BEGIN:VCALENDAR
VERSION:2.0
PRODID:SchoolNow
CALSCALE:GREGORIAN
BEGIN:VEVENT
UID:621c7e0e-585f-11f0-a430-0ebd4930cfaf
DTSTAMP:20251217T020517Z
SUMMARY:PTA Board Meeting
URL;VALUE=URI:https://www.tusd.org/schools/carr/calendar/8382114/pta-board-
 meeting
DTSTART:20260417T000000Z
DTEND:20260417T010000Z
END:VEVENT
END:VCALENDAR
