BEGIN:VCALENDAR
VERSION:2.0
PRODID:SchoolNow
CALSCALE:GREGORIAN
BEGIN:VEVENT
UID:621c7cb0-585f-11f0-bc86-0ebd4930cfaf
DTSTAMP:20251217T020517Z
SUMMARY:Carr Bike Rodeo
URL;VALUE=URI:https://www.tusd.org/schools/carr/calendar/8382113/carr-bike-
 rodeo
DTSTART;VALUE=DATE:20260413
DTEND;VALUE=DATE:20260414
END:VEVENT
END:VCALENDAR
