BEGIN:VCALENDAR
VERSION:2.0
PRODID:SchoolNow
CALSCALE:GREGORIAN
BEGIN:VEVENT
UID:621c780a-585f-11f0-a80b-0ebd4930cfaf
DTSTAMP:20251217T020517Z
SUMMARY:Spring Family Dance @ 6pm
URL;VALUE=URI:https://www.tusd.org/schools/carr/calendar/8382112/spring-fam
 ily-dance-6pm
DTSTART:20260411T010000Z
DTEND:20260411T020000Z
END:VEVENT
END:VCALENDAR
