BEGIN:VCALENDAR
VERSION:2.0
PRODID:SchoolNow
CALSCALE:GREGORIAN
BEGIN:VEVENT
UID:61714994-585f-11f0-895e-0ebd4930cfaf
DTSTAMP:20251217T020517Z
SUMMARY:Spring Break - No School!
URL;VALUE=URI:https://www.tusd.org/schools/carr/calendar/8382073/spring-bre
 ak-no-school
DTSTART;VALUE=DATE:20260330
DTEND;VALUE=DATE:20260404
END:VEVENT
END:VCALENDAR
