BEGIN:VCALENDAR
VERSION:2.0
PRODID:SchoolNow
CALSCALE:GREGORIAN
BEGIN:VEVENT
UID:6171464c-585f-11f0-9c97-0ebd4930cfaf
DTSTAMP:20251217T020517Z
SUMMARY:PTA Board Meeting
URL;VALUE=URI:https://www.tusd.org/schools/carr/calendar/8382067/pta-board-
 meeting
DTSTART:20260320T000000Z
DTEND:20260320T010000Z
END:VEVENT
END:VCALENDAR
